BEGIN:VCALENDAR
VERSION:2.0
PRODID:-//UKIPL - United Kingdom's Premier Powerlifting Hub - ECPv6.15.17.1//NONSGML v1.0//EN
CALSCALE:GREGORIAN
METHOD:PUBLISH
X-WR-CALNAME:UKIPL - United Kingdom's Premier Powerlifting Hub
X-ORIGINAL-URL:https://powerliftingukipl.org
X-WR-CALDESC:Events for UKIPL - United Kingdom's Premier Powerlifting Hub
REFRESH-INTERVAL;VALUE=DURATION:PT1H
X-Robots-Tag:noindex
X-PUBLISHED-TTL:PT1H
BEGIN:VTIMEZONE
TZID:UTC
BEGIN:STANDARD
TZOFFSETFROM:+0000
TZOFFSETTO:+0000
TZNAME:UTC
DTSTART:20250101T000000
END:STANDARD
END:VTIMEZONE
BEGIN:VEVENT
DTSTART;VALUE=DATE:20261114
DTEND;VALUE=DATE:20261116
DTSTAMP:20260422T150235
CREATED:20240104T102027Z
LAST-MODIFIED:20260224T112030Z
UID:8105-1794614400-1794787199@powerliftingukipl.org
SUMMARY:🏆 British Finals UKIPL & GPC Combined- The Ultimate Powerlifting Showdown 🏋️‍♂️🏋️‍♀️
DESCRIPTION:The BIG One – Hosted by The UKIPL President – Dayle Longford\n\n\n\n\n\nMark your calendars for the British IPL\, the most anticipated powerlifting event of the year\, hosted by the visionary Dayle Longford. This is the main event that will define champions\, set records\, and bring together powerlifters from all over. The Venue is in our opinion the best the Uk has ever seen\, one thing’s for sure – it’s going to be an epic gathering of strength\, determination\, and unmatched competition. \n📅 Date: November 14th & 15th \n📍 Venue: The HANGAR\, Pearson Street\, Wolverhampton\, WV2 4HP. \n\n\n\nEvent Highlights:\n\nHosted by the esteemed Dayle Longford\nThe grand finale of the powerlifting season\nAn event that attracts the best powerlifters in the country\nMedals for Top 3 of each class\nTop 3 get invites to represent UKIPL at the worlds \nA powerlifting experience like no other\, where champions are born\nLifting starts 9am\n\nCompetition Equipment:\n\nOn platform:\n\nMono lift\, Competition bench\, Deadlift platform.\nSquat\, Bench\, Deadlift bars being used.\n\n\nWarm up area:\n\n3 Mono lifts\, 3 competition Benches\, 3 Deadlift platforms\n3 Squat Bars\, 3 Bench Bars\, 3 Deadlift Bars.\n\n\n\nWhy Choose the British IPL:\n\n\n\n\n\nWitness history in the making as powerlifters vie for supremacy\nExperience the electric atmosphere of a national powerlifting showdown\nBe part of the thrill\, the excitement\, and the legacy\nJoin us in celebrating the spirit of strength and determination\n\nHotel Recommendation :\n\nPremier inn\, Broad Gauge Way\, Wolverhampton WV10 0BA · 0333 321 9189\n1.8 mile away from the venue.\n\n  \n\nRedwingsLodge\, 45 Waterloo Road\, Wolverhampton\, West Midlands WV1 4QL \n1.6 mile away from the venue.\nDiscount code RedwingsPLC giving you on average £20 off a night. (need to add discount over the phone).01902 715577\nCan pay on arrival just secure room with card details.\nBreakfast available.\nRedwings Wolverhampton Central Hotel\n\nProvisional lifting Schedule:(subject to change) \nSaturday \n\nAll Female Open and Master Lifters.\nAll Male and Female Teens & Junior Lifters.\n\nSunday \n\nAll Male Open and Master Lifters.\nAll Equipped Single Bench Male and Female.\n\nCompetition Photos: \nWe have a dedicated professional photographer to capture all your amazing feats of strength\, you can pre order your packages to be sure she gets your best shots. Please drop abitaylorphoto Instagram a message.  \n  \nCompetition Tshirts: \n               You can pre order competition t-shirts for just £20 each\, pre order from 1/5/26\, LAST DATE TO ORDER 7/10/26 \n  \n  \n  \nUPDATE COMPETITION INFO – \nIPL/GPC Combined British Championships 2025 Competitors information Hi everyone\, We’re looking forward to seeing you all at the IPL/GPC Combined British on 14th and 15thNovember 2026! Please read through the following information carefully so you’re fully prepared for your competition day.Venue & Weigh-Ins When – 13th and 14th Nov 2026 9-10am and 5-6pm Both days. Where – The Hangar\, Pearson Street\, Wolverhampton\, WV2 4HP. Weigh-ins will take place at the main venue check-in area (see map). Please have your shoes and outer garments (Coats/Jumpers etc) off ready to weigh in. Once you have weighed in please take your items outside to ensure weigh in is quick and efficient for everyone. NOTE: Rack heights for squat and Bench must be ready prior to weigh in. The mono and bench to be used will be clearly labelled – Use this mon/bench for rack heights. NO ON THE DAY WEIGH INS! – NO EXCEPTIONS. Please bring: ● All competition kit for inspection ● A valid membership number for the federation you are competing in (UKIPL or GPC combined) You will not be able to weigh in or compete without a valid 2025 membership. ● You must have your membership number and ID available at weigh in.  \nEntry for Coaches & Spectators ● £5 entry fee for coaches and family members ● Only 1 coach per lifter is permitted in the warm-up area and competition holding area – no exceptions. Any extra will be asked to leave. ⚖Important Rules & Reminders ● Declare any record attempts to the scorer’s table when you select your weight. ● The competition runs back-to-back flights\, no fixed times\, so please stay alert and ready for your flight. Updates and Live link Please refer to the Facebook page for up to date reminders and updates: Facebook page link Live Link available for the full 2 days of lifting.Link to sign up. Lift pass has the huge benefit of not being taken down from the platform in some areas of the world due to copyright issues. Lift pass link.Final Note We’re excited to host such an incredible group of lifters. We wish you all the very best of luck with the remainder of your training and look forward to seeing you on comp day. See you on the platform! Kind regards\, Dayle Longford and Rex Thomas  \n  \nGOOD LUCK! \n\n\n\n\n \nElevate your strength\, embrace the challenge\, and be part of history at the British IPL\, hosted by the visionary Dayle Longford. Stay tuned for venue updates and get ready for an unforgettable powerlifting experience! 🏆💪 \n\n\n \n  \n\n\n\n\n \nPlease use this qualification standards calculator – to get to IPL British you need class 11 Qualification to get an entry: Classification Standards – IPL Powerlifting (powerlifting-ipl.com)
URL:https://powerliftingukipl.org/event/the-british-ipl-the-ultimate-powerlifting-showdown/
LOCATION:The Hangar\, Wolverhampton\, WV2 4HP\, The Hangar\, wWolverhampton\, WV2 4HP\, United Kingdom
ATTACH;FMTTYPE=image/jpeg:https://powerliftingukipl.org/wp-content/uploads/2024/01/image0-15.jpeg
ORGANIZER;CN="Dayle Longford":MAILTO:dlfitness.uk@gmail.com
END:VEVENT
END:VCALENDAR