BEGIN:VCALENDAR
VERSION:2.0
PRODID:-//UKIPL - United Kingdom's Premier Powerlifting Hub - ECPv6.15.17.1//NONSGML v1.0//EN
CALSCALE:GREGORIAN
METHOD:PUBLISH
X-WR-CALNAME:UKIPL - United Kingdom's Premier Powerlifting Hub
X-ORIGINAL-URL:https://powerliftingukipl.org
X-WR-CALDESC:Events for UKIPL - United Kingdom's Premier Powerlifting Hub
REFRESH-INTERVAL;VALUE=DURATION:PT1H
X-Robots-Tag:noindex
X-PUBLISHED-TTL:PT1H
BEGIN:VTIMEZONE
TZID:UTC
BEGIN:STANDARD
TZOFFSETFROM:+0000
TZOFFSETTO:+0000
TZNAME:UTC
DTSTART:20240101T000000
END:STANDARD
END:VTIMEZONE
BEGIN:VEVENT
DTSTART;TZID=UTC:20251120T100000
DTEND;TZID=UTC:20251121T235900
DTSTAMP:20260421T115949
CREATED:20240213T140528Z
LAST-MODIFIED:20251105T130211Z
UID:9061-1763632800-1763769540@powerliftingukipl.org
SUMMARY:IPL TESTED WORLD CHAMPIONSHIPS\, WOLVERHAMPTON\, UNITED KINGDOM.
DESCRIPTION:Classification\n\n\n\nCheck the Classification charts to see if you have a Class 1 total for full power\, bench or deadlift. \n\n\n\nMen’s and Women’s Classification chart: https://powerlifting-ipl.com/classification-standards/ \n\n\n\n  \n\n\n\nUKIPL President: Dayle LongfordEmail: info@powerliftingukipl.org \n\n\n\n  \n\n\n\nInformation:\n\n\n\n\n\nWhen – 20-21 Nov 2025\nWhere – The Hangar\, Pearson Street\, Wolverhampton\, U.K\nDescriptionSanction#: 24-1103Entry form:: Is now CLOSED\nMeet limited to 80 lifters per day. Deadline: Oct 4\, 2025\n\n \n\nHotel recommendation :\n\nRedwingsLodge\, 45 Waterloo Road\, Wolverhampton\, West Midlands WV1 4QL \n1.6 mile away from the venue.\nDiscount code RedwingsPLC giving you on average £20 off a night. (need to add discount over the phone).01902 715577\nCan pay on arrival just secure room with card details.\nBreakfast available.\nRedwings Wolverhampton Central Hotel \n\nCompetition Photos: \n                We have a dedicated professional photographer to capture all your amazing feats of strength\, you can pre order your packages to be sure she gets your best shots. Please drop                  abitaylorphoto Instagram a message.  \n\nCompetition Tshirts: \n               You can pre order competition tshirts for just £25 each\, please email powerliftingukipl@gmail.com \n \nRefund Policy:  No refunds\, No transfersMemberships will NOT be sold at the meet. You must have a current membership from your National Federation as well as an IPL membership.\nPurchase your annual IPL membership below. It is required and must be completed before submitting your entry form. www.tromaras.com/ipl-world-powerlifting-championships-2024 \nPURCHASE IPL MEMBERSHIP \n\n \n \nMust have a Class 1 total for your age group and weight class to qualify for this 2025 eventYou must have a Class 1 Qualifying total or above to register.  Qualifying totals must be from a Tested IPL or Tested IPL affiliate event between 1 January 2024 and 19 October\, 2025.\n\n\n\nMeet Start Time: 9:00 am\n\n\n \n \n\n\nWeigh-in Time(s): 9:00 am to 1030am and 4-5pm\, Monday to Thursday\n\n\nWeighins will always be the day before you compete. \n \n\n\nThe specific days for each weight class will be announced on July 1Events: Full Power\, bench only\, deadlift onlyCategory: Raw\, Classic Raw\, Single Ply\, Multi Ply\n\n\n\nQualifier for 2026 IPL Olympia Pro Powerlifting with an Elite total. Qualifier for 2026 IPL World Championship with a Class 1 total. Qualifier for 2026 IPL Tested World Championship with a Class 1 total. Must have a Class 1 total for your age group and weight class to qualify for this 2025 eventMen’s and Women’s Classification chart: https://www.powerlifting-ipl.com/classification-standards/
URL:https://powerliftingukipl.org/event/ipl-tested-world-championships-wolverhampton-united-kingdom/
LOCATION:The Hangar\, Wolverhampton\, WV2 4HP\, The Hangar\, wWolverhampton\, WV2 4HP\, United Kingdom
ATTACH;FMTTYPE=image/jpeg:https://powerliftingukipl.org/wp-content/uploads/2024/02/image0-18.jpeg
ORGANIZER;CN="Dayle Longford":MAILTO:dlfitness.uk@gmail.com
END:VEVENT
BEGIN:VEVENT
DTSTART;VALUE=DATE:20250501
DTEND;VALUE=DATE:20250504
DTSTAMP:20260421T115949
CREATED:20240227T104659Z
LAST-MODIFIED:20251211T100316Z
UID:9106-1746057600-1746316799@powerliftingukipl.org
SUMMARY:🏆 OPEN FOUR NATIONS CHAMPIONSHIPS  🏋️‍♂️🏋️‍♀️ May 23-25th
DESCRIPTION:The BIG One – Hosted by David Thomas & Dayle Longford\n\n\n\n\n\nMark your calendars for the First ever FOUR NATIONS CHAMPIONSHIPS\, the most anticipated powerlifting event of the year\, hosted by the visionary David Thomas & Dayle Longford. This is the main event that will define champions\, set records\, and bring together powerlifters from all over. The venue is A 17\,000 sq ft Arena which is ideally located in Wolverhampton\, one thing’s for sure – it’s going to be an epic gathering of strength\, determination\, and unmatched competition.  \n📅 Date: May 23rd-25th \n📍 Venue: The Hangar\, Wolverhampton\, WV2 4HP. \n\n\n\nEvent Highlights:\n\nHosted by the esteemed David Thomas & Dayle Longford\nThe Ultimate strength event to determine the strongest NATION\nAn event that attracts the best powerlifters in the country regardless of federation all welcome\nMedals for Top 3 of each class\nPrizes for Best lifters. \nPrizes for best Squat\, Bench\, & Deadlift of the competition \nUK’s STRICT CURL competition\, taking Europe by storm.\n\nCompetition Equipment:\n\nOn platform:\n\nMono lift\, Competition bench\, Deadlift platform.\nSquat\, Bench\, Deadlift bars being used.\nWarm up area:\n\n\n\n\n3 Mono lifts\, 3 competition Benches\,32 Deadlift platforms\n3 Squat Bars\, 3 Bench Bars\, 3 Deadlift Bars.\n\n\n\nWhy Choose the FOUR NATIONS:\n\n\n\n\n\nWitness history in the making as powerlifters vie for supremacy\nExperience the electric atmosphere of the four nation powerlifting showdown\nBe part of the thrill\, the excitement\, and the legacy\nJoin us in celebrating the spirit of strength and determination\n\nThe nitty gritty info: \n\nEntry opens 1ST March limited spaces available.\nCompetition is open to anybody no membership needed. \nRun under GPC rules and referees\,  2022 RULEBOOK | GPC-GB (gpcgb.com) \nStrict curl will be after bench press during the break\, cash prize for biggest weight curled.\n\n                                                                                    \n                                                                                  Competition Photos: \nWe have a dedicated professional photographer to capture all your amazing feats of strength\, you can pre order your packages to be sure she gets your best shots. Please drop abitaylorphoto Instagram a message.  \n  \n  \nFOR ENTRY CLICK HERE Open Four Nations Championships – UKIPL – United Kingdom’s Premier Powerlifting Hub \n\n\n\n\n \nElevate your strength\, embrace the challenge\, and be part of history at the FOUR NATIONS CHAMPIONSHIPS \, hosted by the visionary David Thomas & Dayle Longford. Stay tuned for updates and get ready for an unforgettable powerlifting experience! 🏆💪 \n\n\n \nWeigh-In Times – Please note: Twenty-four hours prior to the competition\, if it begins at 9 a.m.\, the weigh-in would occur from 9 to 10 a.m. on the day before the competition. Conversely\, if the competition starts at 10 a.m.\, the weigh-in would be scheduled from 10 to 11 a.m. on the preceding day. Additionally\, there is an afternoon weigh-in from 5 to 6 p.m. on that day. On the day of the competition itself\, the weigh-ins will be conducted from 7 to 8 a.m. if the competition commences at 9 a.m.\, or from 8 to 9 a.m. if the competition starts at 10 a.m.
URL:https://powerliftingukipl.org/event/%f0%9f%8f%86-open-four-nations-championships-%f0%9f%8f%8b%ef%b8%8f%e2%99%82%ef%b8%8f%f0%9f%8f%8b%ef%b8%8f%e2%99%80%ef%b8%8f/
LOCATION:The Hangar\, Wolverhampton\, WV2 4HP\, The Hangar\, wWolverhampton\, WV2 4HP\, United Kingdom
ATTACH;FMTTYPE=image/jpeg:https://powerliftingukipl.org/wp-content/uploads/2024/02/image0.jpeg
ORGANIZER;CN="Dayle Longford":MAILTO:dlfitness.uk@gmail.com
END:VEVENT
END:VCALENDAR