BEGIN:VCALENDAR
VERSION:2.0
PRODID:-//UKIPL - United Kingdom's Premier Powerlifting Hub - ECPv6.15.17.1//NONSGML v1.0//EN
CALSCALE:GREGORIAN
METHOD:PUBLISH
X-WR-CALNAME:UKIPL - United Kingdom's Premier Powerlifting Hub
X-ORIGINAL-URL:https://powerliftingukipl.org
X-WR-CALDESC:Events for UKIPL - United Kingdom's Premier Powerlifting Hub
REFRESH-INTERVAL;VALUE=DURATION:PT1H
X-Robots-Tag:noindex
X-PUBLISHED-TTL:PT1H
BEGIN:VTIMEZONE
TZID:UTC
BEGIN:STANDARD
TZOFFSETFROM:+0000
TZOFFSETTO:+0000
TZNAME:UTC
DTSTART:20250101T000000
END:STANDARD
END:VTIMEZONE
BEGIN:VEVENT
DTSTART;VALUE=DATE:20261114
DTEND;VALUE=DATE:20261116
DTSTAMP:20260422T220323
CREATED:20240104T102027Z
LAST-MODIFIED:20260224T112030Z
UID:8105-1794614400-1794787199@powerliftingukipl.org
SUMMARY:🏆 British Finals UKIPL & GPC Combined- The Ultimate Powerlifting Showdown 🏋️‍♂️🏋️‍♀️
DESCRIPTION:The BIG One – Hosted by The UKIPL President – Dayle Longford\n\n\n\n\n\nMark your calendars for the British IPL\, the most anticipated powerlifting event of the year\, hosted by the visionary Dayle Longford. This is the main event that will define champions\, set records\, and bring together powerlifters from all over. The Venue is in our opinion the best the Uk has ever seen\, one thing’s for sure – it’s going to be an epic gathering of strength\, determination\, and unmatched competition. \n📅 Date: November 14th & 15th \n📍 Venue: The HANGAR\, Pearson Street\, Wolverhampton\, WV2 4HP. \n\n\n\nEvent Highlights:\n\nHosted by the esteemed Dayle Longford\nThe grand finale of the powerlifting season\nAn event that attracts the best powerlifters in the country\nMedals for Top 3 of each class\nTop 3 get invites to represent UKIPL at the worlds \nA powerlifting experience like no other\, where champions are born\nLifting starts 9am\n\nCompetition Equipment:\n\nOn platform:\n\nMono lift\, Competition bench\, Deadlift platform.\nSquat\, Bench\, Deadlift bars being used.\n\n\nWarm up area:\n\n3 Mono lifts\, 3 competition Benches\, 3 Deadlift platforms\n3 Squat Bars\, 3 Bench Bars\, 3 Deadlift Bars.\n\n\n\nWhy Choose the British IPL:\n\n\n\n\n\nWitness history in the making as powerlifters vie for supremacy\nExperience the electric atmosphere of a national powerlifting showdown\nBe part of the thrill\, the excitement\, and the legacy\nJoin us in celebrating the spirit of strength and determination\n\nHotel Recommendation :\n\nPremier inn\, Broad Gauge Way\, Wolverhampton WV10 0BA · 0333 321 9189\n1.8 mile away from the venue.\n\n  \n\nRedwingsLodge\, 45 Waterloo Road\, Wolverhampton\, West Midlands WV1 4QL \n1.6 mile away from the venue.\nDiscount code RedwingsPLC giving you on average £20 off a night. (need to add discount over the phone).01902 715577\nCan pay on arrival just secure room with card details.\nBreakfast available.\nRedwings Wolverhampton Central Hotel\n\nProvisional lifting Schedule:(subject to change) \nSaturday \n\nAll Female Open and Master Lifters.\nAll Male and Female Teens & Junior Lifters.\n\nSunday \n\nAll Male Open and Master Lifters.\nAll Equipped Single Bench Male and Female.\n\nCompetition Photos: \nWe have a dedicated professional photographer to capture all your amazing feats of strength\, you can pre order your packages to be sure she gets your best shots. Please drop abitaylorphoto Instagram a message.  \n  \nCompetition Tshirts: \n               You can pre order competition t-shirts for just £20 each\, pre order from 1/5/26\, LAST DATE TO ORDER 7/10/26 \n  \n  \n  \nUPDATE COMPETITION INFO – \nIPL/GPC Combined British Championships 2025 Competitors information Hi everyone\, We’re looking forward to seeing you all at the IPL/GPC Combined British on 14th and 15thNovember 2026! Please read through the following information carefully so you’re fully prepared for your competition day.Venue & Weigh-Ins When – 13th and 14th Nov 2026 9-10am and 5-6pm Both days. Where – The Hangar\, Pearson Street\, Wolverhampton\, WV2 4HP. Weigh-ins will take place at the main venue check-in area (see map). Please have your shoes and outer garments (Coats/Jumpers etc) off ready to weigh in. Once you have weighed in please take your items outside to ensure weigh in is quick and efficient for everyone. NOTE: Rack heights for squat and Bench must be ready prior to weigh in. The mono and bench to be used will be clearly labelled – Use this mon/bench for rack heights. NO ON THE DAY WEIGH INS! – NO EXCEPTIONS. Please bring: ● All competition kit for inspection ● A valid membership number for the federation you are competing in (UKIPL or GPC combined) You will not be able to weigh in or compete without a valid 2025 membership. ● You must have your membership number and ID available at weigh in.  \nEntry for Coaches & Spectators ● £5 entry fee for coaches and family members ● Only 1 coach per lifter is permitted in the warm-up area and competition holding area – no exceptions. Any extra will be asked to leave. ⚖Important Rules & Reminders ● Declare any record attempts to the scorer’s table when you select your weight. ● The competition runs back-to-back flights\, no fixed times\, so please stay alert and ready for your flight. Updates and Live link Please refer to the Facebook page for up to date reminders and updates: Facebook page link Live Link available for the full 2 days of lifting.Link to sign up. Lift pass has the huge benefit of not being taken down from the platform in some areas of the world due to copyright issues. Lift pass link.Final Note We’re excited to host such an incredible group of lifters. We wish you all the very best of luck with the remainder of your training and look forward to seeing you on comp day. See you on the platform! Kind regards\, Dayle Longford and Rex Thomas  \n  \nGOOD LUCK! \n\n\n\n\n \nElevate your strength\, embrace the challenge\, and be part of history at the British IPL\, hosted by the visionary Dayle Longford. Stay tuned for venue updates and get ready for an unforgettable powerlifting experience! 🏆💪 \n\n\n \n  \n\n\n\n\n \nPlease use this qualification standards calculator – to get to IPL British you need class 11 Qualification to get an entry: Classification Standards – IPL Powerlifting (powerlifting-ipl.com)
URL:https://powerliftingukipl.org/event/the-british-ipl-the-ultimate-powerlifting-showdown/
LOCATION:The Hangar\, Wolverhampton\, WV2 4HP\, The Hangar\, wWolverhampton\, WV2 4HP\, United Kingdom
ATTACH;FMTTYPE=image/jpeg:https://powerliftingukipl.org/wp-content/uploads/2024/01/image0-15.jpeg
ORGANIZER;CN="Dayle Longford":MAILTO:dlfitness.uk@gmail.com
END:VEVENT
BEGIN:VEVENT
DTSTART;TZID=UTC:20261120T100000
DTEND;TZID=UTC:20261122T235900
DTSTAMP:20260422T220323
CREATED:20240213T140528Z
LAST-MODIFIED:20260421T120958Z
UID:9061-1795168800-1795391940@powerliftingukipl.org
SUMMARY:IPL Ultra World Championships\, Las Vegas\, Nevada\, USA
DESCRIPTION:Classification\n\n\n\nCheck the Classification charts to see if you have a Class 1 total for full power\, bench or deadlift. \n\n\n\nMen’s and Women’s Classification chart: https://powerlifting-ipl.com/classification-standards/ \n\n\n\n  \n\n\n\nUKIPL President: Dayle LongfordEmail: info@powerliftingukipl.org \n\n\n\n  \n\n\n\nInformation:\n\n\n\n\n\nWhen – 20-22 Nov 2026\nWhere – Westgate\, Las Vegas Resort & Casino\, Paradise Rd\, Las Vegas\, NV 89109\, USA\nEntry form:: Opens 1st June.\n\nMust have a Master total as a Tested lifter and an Elite total as an Open lifter for your age group and weight class to qualify for this 2026 eventYou must have the required total or above to register.  Qualifying totals must be from a Tested IPL or Untested IPL affiliate event between 1 January 2025 and 18 October\, 2026.Men’s and Women’s Classification chart: https://www.powerlifting-ipl.com/classification-standards/ \n\n\n\nFriday\, November 20\, 2026 – Saturday\, November 21\, 2026 – Sunday\, November 22\, 2026 –  Start time is 9am on each day\n\n\n \n \n\n\nWeigh-in Time(s): 9:00 am to 1030am and 4-5pm\, Thursday\, Friday\, Saturday\n\n\nWeighins will always be the day before you compete. \n \n\n\nEvents: Full Power\, bench only\, deadlift onlyCategory: Raw\, Classic Raw\, Single Ply\, Multi Ply\n\n\n\nQualifier for 2027 IPL Olympia Pro Powerlifting with an Elite total for tested and International elite for Open.Qualifier for 2027 IPL Ultra World Championship with a  Master total as a Tested lifter and an Elite total as an Open lifter for your age group and weight class Must have a Master total as a Tested lifter and an Elite total as an Open lifter for your age group and weight class to qualify for this 2026 eventMen’s and Women’s Classification chart: https://www.powerlifting-ipl.com/classification-standards/ \n \n \n  \n  \nRefund Policy:  No refunds\, No transfersMemberships will NOT be sold at the meet. You must have a current membership from your National Federation as well as an IPL membership.\nPurchase your annual IPL membership below. It is required and must be completed before submitting your entry form. www.tromaras.com/ipl-world-powerlifting-championships-2024 \nPURCHASE IPL MEMBERSHIP \n\n \n \n 
URL:https://powerliftingukipl.org/event/ultra-world-championships-las-vegas-nevada-usa/
LOCATION:Westgate Resort & Casino\, Paradise Road\, Las Vegas\, United States
ATTACH;FMTTYPE=image/jpeg:https://powerliftingukipl.org/wp-content/uploads/2024/02/IPL.jpg
END:VEVENT
BEGIN:VEVENT
DTSTART;TZID=UTC:20261121T100000
DTEND;TZID=UTC:20261122T170000
DTSTAMP:20260422T220323
CREATED:20240112T183702Z
LAST-MODIFIED:20260421T135542Z
UID:9013-1795255200-1795366800@powerliftingukipl.org
SUMMARY:The Sam Standerwick Bench and Deadlift Challenge FIT XPO COVENTRY- November 21st & 22nd - (OPEN TO ANYONE)
DESCRIPTION:Get Ready to Unleash Your Power! \n\n\n\n\n\nPrepare to take part in the Sam Standerwick 10 year Memorial single lift Bench & Deadlift Challenge\, an electrifying event presented by the dedicated promoter\, Dayle Longford. This is your opportunity to showcase your strength\, break new records\, and be part of an adrenaline-charged strength competition. Hosted at the renowned FIT XPO in Coventry\, it’s a day filled with power\, determination\, and a thriving lifting community. \nThis will commemorate 10 years since Sam Standerwick sadly passed away due to heart failure in his sleep.  There will also be prizes for best Bench & Deadlift Male and Female on wilks and also greatest weight lifted by a Male and female lifter.  \n\n\n\n\n\n📅 Date: November 21st & 22nd \n\n\n\n📍 Venue: FIT XPO\, CBS ARENA\, COVENTRY. \n\n\n\n🕘 Start Time: 10:00 AM \n\n\n\nLimited to 50 Entries Each day. \n\n\n\n\n\nEvent Highlights: \n\n\n\n\nPromoted by the passionate Dayle Longford\n\n\n\nOpen to powerlifters of all weight categories and experience levels\nOpen to any lifter no membership needed.\n\n\n\n\n\nState-of-the-art equipment in a motivating fitness environment\n\n\n\nA supportive and encouraging atmosphere\, welcoming both newcomers and seasoned competitors\n\n\n\nOpportunities to connect with fellow fitness enthusiasts\, coaches\, and dedicated athletes\nMedal and certificate for all athletes competing\nIf your a member you can break Records.\n\n\n\nCompetition Equipment:\n\n\n\nOn platform:\nCompetition bench\n\n\n\nDeadlift platform.\n\n\n\nTexas Deadlift bar.\nRogue Bench bar.\n\n\n\nWarm up area:\n3 benches.\n3 bench bars.\n\n\n\n3 Deadlift platforms.\n\n\n\n Deadlift Bars.\n\n\n\n\nWhy Choose the Sam Standerwick Deadlift Challenge: \n\n\n\n\nExperience the thrill and camaraderie of a competitive Bench & Deadlifting event\nExplore the expo with your competition entry access all areas.\n\n\n\nPush your limits and uncover your true strength potential\n\n\n\nGain inspiration from top athletes striving for excellence\n\n\n\nEnjoy a day filled with fitness\, challenge\, and a vibrant lifting community.\nOverall Male & Female will be determined on best dots score.\n\n\n\nWhat’s the split? \nALL  FEMALE LIFTERS ALL CLASSES  &  MALE JUNIOR+TEEN LIFTERS will lift on the Saturday  21st \nALL  MALE OPEN + MASTER lifters will lift on the Sunday 22nd. \nNO ON THE DAY WEIGH INS. All weigh ins are 24hrs before. \n  \nYour chance to lift on the big stage is here!Compete at one of the UK’s best fitness expos and perform in front of a packed crowd cheering you on.Entry: £65 Categories: Single lift or Push/Pull (Bench & Deadlift) Bonus: Your entry includes full weekend access to the expo — worth £54.50.The expo will be packed with top fitness brands\, stall holders\, and non-stop action all weekend. Alongside powerlifting\, CrossFit\, Strongman\, and other competitions running across the venue.Don’t miss your shot to be part of it.— \nCompetition Photos: \n                We have a dedicated professional photographer to capture all your amazing feats of strength\, you can pre order your packages to be sure she gets your best shots. Please drop abitaylorphoto Instagram a message.  \n  \n\n\n\nSign Up & Learn More: Ready to accept the challenge and make your mark? Register now to secure your spot on the platform! 2026 UKIPL Sam Standerwick Push Pull Challenge NO MEMBERSHIP NEEDED \n  \n  \n\n\n\n\n\nElevate your strength\, embrace the challenge\, and become part of something extraordinary at the Sam Standerwick Deadlift Challenge. We can’t wait to celebrate your achievements! 🏆💥 \n\n\n\n\n\nWeigh-In Times – Please note: Twenty-four hours prior to the competition\, if it begins at 9 a.m.\, the weigh-in would occur from 9 to 10 a.m. on the day before the competition. Conversely\, if the competition starts at 10 a.m.\, the weigh-in would be scheduled from 10 to 11 a.m. on the preceding day. Additionally\, there is an afternoon weigh-in from 5 to 6 p.m. on that day. On the day of the competition itself\, the weigh-ins will be conducted from 7 to 8 a.m. if the competition commences at 9 a.m.\, or from 8 to 9 a.m. if the competition starts at 10 a.m. \nRemote weigh ins are available when organised with a UKIPL referee please email to arrange a weigh in slot with a referee closer to your location\, weigh in times must still be abided by. info@powerliftingukipl.org \n\n\n\n\n\nPlease use this qualification standards calculator – to get to IPL British you need class 11 Qualification to get an entry: Classification Standards – IPL Powerlifting (powerlifting-ipl.com) \n\n\n\n\n\n\n\n\n\n\n\n\n\n 
URL:https://powerliftingukipl.org/event/the-sam-standerwick-challenge-november-21-22/
LOCATION:UNITED KINGDOM\, United Kingdom
ATTACH;FMTTYPE=image/jpeg:https://powerliftingukipl.org/wp-content/uploads/2024/01/image0-12.jpeg
ORGANIZER;CN="Dayle Longford":MAILTO:dlfitness.uk@gmail.com
END:VEVENT
END:VCALENDAR